BEGIN:VCALENDAR
VERSION:2.0
PRODID:-//Buddhist Coalition for Democracy - ECPv6.15.20//NONSGML v1.0//EN
CALSCALE:GREGORIAN
METHOD:PUBLISH
X-WR-CALNAME:Buddhist Coalition for Democracy
X-ORIGINAL-URL:https://www.buddhistcoalitionfordemocracy.org
X-WR-CALDESC:Events for Buddhist Coalition for Democracy
REFRESH-INTERVAL;VALUE=DURATION:PT1H
X-Robots-Tag:noindex
X-PUBLISHED-TTL:PT1H
BEGIN:VTIMEZONE
TZID:America/New_York
BEGIN:DAYLIGHT
TZOFFSETFROM:-0500
TZOFFSETTO:-0400
TZNAME:EDT
DTSTART:20240310T070000
END:DAYLIGHT
BEGIN:STANDARD
TZOFFSETFROM:-0400
TZOFFSETTO:-0500
TZNAME:EST
DTSTART:20241103T060000
END:STANDARD
BEGIN:DAYLIGHT
TZOFFSETFROM:-0500
TZOFFSETTO:-0400
TZNAME:EDT
DTSTART:20250309T070000
END:DAYLIGHT
BEGIN:STANDARD
TZOFFSETFROM:-0400
TZOFFSETTO:-0500
TZNAME:EST
DTSTART:20251102T060000
END:STANDARD
BEGIN:DAYLIGHT
TZOFFSETFROM:-0500
TZOFFSETTO:-0400
TZNAME:EDT
DTSTART:20260308T070000
END:DAYLIGHT
BEGIN:STANDARD
TZOFFSETFROM:-0400
TZOFFSETTO:-0500
TZNAME:EST
DTSTART:20261101T060000
END:STANDARD
END:VTIMEZONE
BEGIN:VEVENT
DTSTART;TZID=America/New_York:20251109T130000
DTEND;TZID=America/New_York:20251109T143000
DTSTAMP:20260419T142427
CREATED:20251107T021344Z
LAST-MODIFIED:20251107T021344Z
UID:10001131-1762693200-1762698600@www.buddhistcoalitionfordemocracy.org
SUMMARY:Actualizing Unfaltering Engaged Practice In Our Time – BRIDGING with Tara Brach
DESCRIPTION:Disarming the Heart—Practices for Bridging Divides \nDo you sometimes demonize those whose views and actions feel threatening or harmful? In these times of deep polarization\, the suffering of our world arises from a trance of forgotten belonging—and the hope for healing lies in remembering\, together. This session offers experiential practices to help us soften the heart and begin bridging the divides within and around us. \nTara Brach is a meditation teacher\, psychologist and author of several books including international bestselling Radical Acceptance\, Radical Compassion and Trusting the Gold. \nRegistration link: \nhttps://www.upaya.org/program/engaged-buddhism-online-november-2025/
URL:https://www.buddhistcoalitionfordemocracy.org/event/actualizing-unfaltering-engaged-practice-in-our-time-bridging-with-tara-brach/
CATEGORIES:Engaged Buddhism,Virtual Event
END:VEVENT
BEGIN:VEVENT
DTSTART;VALUE=DATE:20251114
DTEND;VALUE=DATE:20251117
DTSTAMP:20260419T142427
CREATED:20251111T194002Z
LAST-MODIFIED:20251111T194002Z
UID:10001136-1763078400-1763337599@www.buddhistcoalitionfordemocracy.org
SUMMARY:AWAKENED ACTION: Making the Future in the Present
DESCRIPTION:This special gathering is a time to explore how in this very moment\, we make the future in the present. Today\, we find ourselves moving against attempts to step backward into greater and greater harm. In this important time together we will explore through teachings\, story\, practice\, meeting each other warm hand to warm hand\, the treasures of imagination and revolutionary joy\, the gift of moral beauty as resistance against moral injury\, the liberating power of wise hope\, the brave stepping toward the good\, and the special skill of discovering the way forward in a pace that is sane\, but with the commitment to go! \nFive remarkable women will guide us in this time together… renowned writers Terry Tempest William and Rebecca Solnit\, lawyer and Buddhist teacher Valerie Brown\, beloved Zen teacher and social activist Roshi Joan Halifax\, and on Saturday evening\, climate diplomat Christiana Figueres who hopes to join us from Brazil\, where she will be part of the COP30 in Belem. \nDetailed schedule and registration at: \nhttps://www.upaya.org/program/awakened-action-making-the-future-in-the-present-online-2025/
URL:https://www.buddhistcoalitionfordemocracy.org/event/awakened-action-making-the-future-in-the-present/
CATEGORIES:Engaged Buddhism,Virtual Event
END:VEVENT
BEGIN:VEVENT
DTSTART;TZID=America/New_York:20251120T180000
DTEND;TZID=America/New_York:20251120T193000
DTSTAMP:20260419T142427
CREATED:20250827T123410Z
LAST-MODIFIED:20251025T170727Z
UID:10000275-1763661600-1763667000@www.buddhistcoalitionfordemocracy.org
SUMMARY:Buddhist Voices for Immigration Justice: Compassion in Action
DESCRIPTION:BCD\, in partnership with the Insight Meditation Center of Washington will be holding a virtual Town Hall on Immigration. “Buddhist Voices for Immigration Justice: Compassion in Action” will be held on Thursday\, November 20\, 2025\, 6:00-7:30pm EST.  Our panelists: Tara Brach\, whose teachings include a full\, compassionate engagement with our world; Lama Rod Owens\, an international influencer with a focus on the intersection of social change\, identity and spiritual practice; Dr. Marisela Gomez\, grassroots activist and advocate for spiritual practice with community organizing; Lenni B. Benson\, Professor of Immigration and Human Rights Law at New York Law School.  The Town Hall will feature an audience Q&A as well as a Call to Action with practical next steps for advocacy and opportunities to stay connected.  Register for this event: https://imcw.org/event/?eventId=1665
URL:https://www.buddhistcoalitionfordemocracy.org/event/town-hall-buddhist-voices-for-immigration-justice-compassion-in-action/
LOCATION:Zoom Event
CATEGORIES:Engaged Buddhism,Virtual Event
END:VEVENT
END:VCALENDAR