BEGIN:VCALENDAR
VERSION:2.0
PRODID:-//Buddhist Coalition for Democracy - ECPv6.15.20//NONSGML v1.0//EN
CALSCALE:GREGORIAN
METHOD:PUBLISH
X-WR-CALNAME:Buddhist Coalition for Democracy
X-ORIGINAL-URL:https://www.buddhistcoalitionfordemocracy.org
X-WR-CALDESC:Events for Buddhist Coalition for Democracy
REFRESH-INTERVAL;VALUE=DURATION:PT1H
X-Robots-Tag:noindex
X-PUBLISHED-TTL:PT1H
BEGIN:VTIMEZONE
TZID:America/New_York
BEGIN:DAYLIGHT
TZOFFSETFROM:-0500
TZOFFSETTO:-0400
TZNAME:EDT
DTSTART:20240310T070000
END:DAYLIGHT
BEGIN:STANDARD
TZOFFSETFROM:-0400
TZOFFSETTO:-0500
TZNAME:EST
DTSTART:20241103T060000
END:STANDARD
BEGIN:DAYLIGHT
TZOFFSETFROM:-0500
TZOFFSETTO:-0400
TZNAME:EDT
DTSTART:20250309T070000
END:DAYLIGHT
BEGIN:STANDARD
TZOFFSETFROM:-0400
TZOFFSETTO:-0500
TZNAME:EST
DTSTART:20251102T060000
END:STANDARD
BEGIN:DAYLIGHT
TZOFFSETFROM:-0500
TZOFFSETTO:-0400
TZNAME:EDT
DTSTART:20260308T070000
END:DAYLIGHT
BEGIN:STANDARD
TZOFFSETFROM:-0400
TZOFFSETTO:-0500
TZNAME:EST
DTSTART:20261101T060000
END:STANDARD
END:VTIMEZONE
BEGIN:VEVENT
DTSTART;TZID=America/New_York:20250811T120000
DTEND;TZID=America/New_York:20250811T130000
DTSTAMP:20260422T092241
CREATED:20250707T211334Z
LAST-MODIFIED:20250804T180720Z
UID:10000016-1754913600-1754917200@www.buddhistcoalitionfordemocracy.org
SUMMARY:Introduction to Zen Peacemaking with Eve Marko
DESCRIPTION:Our approach to Peacemaking is unique. As we practice the Three Tenets of Not Knowing\, Bearing Witness\, and Taking Action\, we commit to not taking fixed positions\, to embracing wholeness and unity\, to setting a place at the table for everyone. In a world of conflict\, suffering\, and violence\, how do we make peace in this way. Please join us to learn about Zen Peacemaking. \nEvent website \nhttps://hive.zenpeacemakers.org/events/182442
URL:https://www.buddhistcoalitionfordemocracy.org/event/introduction-to-zen-peacemaking-with-eve-marko/
CATEGORIES:Engaged Buddhism,Virtual Event
END:VEVENT
END:VCALENDAR