BEGIN:VCALENDAR
VERSION:2.0
PRODID:-//Buddhist Coalition for Democracy - ECPv6.15.20//NONSGML v1.0//EN
CALSCALE:GREGORIAN
METHOD:PUBLISH
X-WR-CALNAME:Buddhist Coalition for Democracy
X-ORIGINAL-URL:https://www.buddhistcoalitionfordemocracy.org
X-WR-CALDESC:Events for Buddhist Coalition for Democracy
REFRESH-INTERVAL;VALUE=DURATION:PT1H
X-Robots-Tag:noindex
X-PUBLISHED-TTL:PT1H
BEGIN:VTIMEZONE
TZID:America/New_York
BEGIN:DAYLIGHT
TZOFFSETFROM:-0500
TZOFFSETTO:-0400
TZNAME:EDT
DTSTART:20240310T070000
END:DAYLIGHT
BEGIN:STANDARD
TZOFFSETFROM:-0400
TZOFFSETTO:-0500
TZNAME:EST
DTSTART:20241103T060000
END:STANDARD
BEGIN:DAYLIGHT
TZOFFSETFROM:-0500
TZOFFSETTO:-0400
TZNAME:EDT
DTSTART:20250309T070000
END:DAYLIGHT
BEGIN:STANDARD
TZOFFSETFROM:-0400
TZOFFSETTO:-0500
TZNAME:EST
DTSTART:20251102T060000
END:STANDARD
BEGIN:DAYLIGHT
TZOFFSETFROM:-0500
TZOFFSETTO:-0400
TZNAME:EDT
DTSTART:20260308T070000
END:DAYLIGHT
BEGIN:STANDARD
TZOFFSETFROM:-0400
TZOFFSETTO:-0500
TZNAME:EST
DTSTART:20261101T060000
END:STANDARD
END:VTIMEZONE
BEGIN:VEVENT
DTSTART;TZID=America/New_York:20250902T120000
DTEND;TZID=America/New_York:20250902T133000
DTSTAMP:20260422T110858
CREATED:20250826T183357Z
LAST-MODIFIED:20250826T183357Z
UID:10000271-1756814400-1756819800@www.buddhistcoalitionfordemocracy.org
SUMMARY:The Three Tenets: The Intimacy of Taking Action
DESCRIPTION:Please join us for a panel discussion with Genjo Marinello\, Joshin Byrnes\, Jitsujo Gauthier\, Koho Mello\, and Mikko Ijäs discussing Zen Peacemakers third Tenet: Taking Action. In this panel discussion\, we will probe the emotional and spiritual aspects of taking action. Many of us struggle with the notion of taking action without naming or blaming perpetrators\, without calling out evil\, without siding with one group against another\, or this against that. Many of us are hard-wired for the language\, the tone\, the energy and the action of conflict and resistance\, which we know does not make matters better. And yet we are called to act. \nHow do we do this wisely and compassionately\, preserving our inherent interconnectedness?\nThis tenet has been expressed as “healing”. How do we promote healing when we take action? \nGeoff O’Keeffe will moderate and there will be an opportunity for participants to participate in the discussion.\nDuration: 90 minutes \nA link to join using Zoom will be sent after you register. \nTo register: \nhttps://hive.zenpeacemakers.org/events/187516
URL:https://www.buddhistcoalitionfordemocracy.org/event/the-three-tenets-the-intimacy-of-taking-action/
CATEGORIES:Engaged Buddhism,Virtual Event
END:VEVENT
END:VCALENDAR