BEGIN:VCALENDAR
VERSION:2.0
PRODID:-//Buddhist Coalition for Democracy - ECPv6.15.20//NONSGML v1.0//EN
CALSCALE:GREGORIAN
METHOD:PUBLISH
X-ORIGINAL-URL:https://www.buddhistcoalitionfordemocracy.org
X-WR-CALDESC:Events for Buddhist Coalition for Democracy
REFRESH-INTERVAL;VALUE=DURATION:PT1H
X-Robots-Tag:noindex
X-PUBLISHED-TTL:PT1H
BEGIN:VTIMEZONE
TZID:America/New_York
BEGIN:DAYLIGHT
TZOFFSETFROM:-0500
TZOFFSETTO:-0400
TZNAME:EDT
DTSTART:20240310T070000
END:DAYLIGHT
BEGIN:STANDARD
TZOFFSETFROM:-0400
TZOFFSETTO:-0500
TZNAME:EST
DTSTART:20241103T060000
END:STANDARD
BEGIN:DAYLIGHT
TZOFFSETFROM:-0500
TZOFFSETTO:-0400
TZNAME:EDT
DTSTART:20250309T070000
END:DAYLIGHT
BEGIN:STANDARD
TZOFFSETFROM:-0400
TZOFFSETTO:-0500
TZNAME:EST
DTSTART:20251102T060000
END:STANDARD
BEGIN:DAYLIGHT
TZOFFSETFROM:-0500
TZOFFSETTO:-0400
TZNAME:EDT
DTSTART:20260308T070000
END:DAYLIGHT
BEGIN:STANDARD
TZOFFSETFROM:-0400
TZOFFSETTO:-0500
TZNAME:EST
DTSTART:20261101T060000
END:STANDARD
END:VTIMEZONE
BEGIN:VEVENT
DTSTART;TZID=America/New_York:20250905T120000
DTEND;TZID=America/New_York:20250905T130000
DTSTAMP:20260424T083705
CREATED:20250826T185309Z
LAST-MODIFIED:20250826T185309Z
UID:10000272-1757073600-1757077200@www.buddhistcoalitionfordemocracy.org
SUMMARY:Zen Peacemakers Bearing Witness to Gaza Silent Meditation
DESCRIPTION:As Zen Peacemakers\, we practice seeing our world from a position of stillness and non-judgment\, witnessing life’s beauty and joy alongside the horror and suffering\, without looking away. From that intense experience our hearts call us to act. \nPlease join us virtually Friday\, September 5th at 12:00 pm US Eastern Time\, to sit together in silence for one hour\, to acknowledge all those suffering in Gaza. \nDuration: 60 minutes \nA link to join using Zoom will be sent after you register. \nTo register: \nhttps://hive.zenpeacemakers.org/events/189562 \n 
URL:https://www.buddhistcoalitionfordemocracy.org/event/zen-peacemakers-bearing-witness-to-gaza-silent-meditation/
CATEGORIES:Engaged Buddhism,Virtual Event
END:VEVENT
END:VCALENDAR