BEGIN:VCALENDAR
VERSION:2.0
PRODID:-//Buddhist Coalition for Democracy - ECPv6.15.20//NONSGML v1.0//EN
CALSCALE:GREGORIAN
METHOD:PUBLISH
X-ORIGINAL-URL:https://www.buddhistcoalitionfordemocracy.org
X-WR-CALDESC:Events for Buddhist Coalition for Democracy
REFRESH-INTERVAL;VALUE=DURATION:PT1H
X-Robots-Tag:noindex
X-PUBLISHED-TTL:PT1H
BEGIN:VTIMEZONE
TZID:America/New_York
BEGIN:DAYLIGHT
TZOFFSETFROM:-0500
TZOFFSETTO:-0400
TZNAME:EDT
DTSTART:20240310T070000
END:DAYLIGHT
BEGIN:STANDARD
TZOFFSETFROM:-0400
TZOFFSETTO:-0500
TZNAME:EST
DTSTART:20241103T060000
END:STANDARD
BEGIN:DAYLIGHT
TZOFFSETFROM:-0500
TZOFFSETTO:-0400
TZNAME:EDT
DTSTART:20250309T070000
END:DAYLIGHT
BEGIN:STANDARD
TZOFFSETFROM:-0400
TZOFFSETTO:-0500
TZNAME:EST
DTSTART:20251102T060000
END:STANDARD
BEGIN:DAYLIGHT
TZOFFSETFROM:-0500
TZOFFSETTO:-0400
TZNAME:EDT
DTSTART:20260308T070000
END:DAYLIGHT
BEGIN:STANDARD
TZOFFSETFROM:-0400
TZOFFSETTO:-0500
TZNAME:EST
DTSTART:20261101T060000
END:STANDARD
END:VTIMEZONE
BEGIN:VEVENT
DTSTART;TZID=America/New_York:20250925T190000
DTEND;TZID=America/New_York:20250925T200000
DTSTAMP:20260422T045335
CREATED:20250813T154809Z
LAST-MODIFIED:20250925T000902Z
UID:10000023-1758826800-1758830400@www.buddhistcoalitionfordemocracy.org
SUMMARY:BCD New Horizons in Engaged Buddhism Live Telecast: Julia Sagebien interviews Rev. Seth Zuihō Segall
DESCRIPTION:In the first of a series of monthly live interviews with engaged Buddhist thought leaders\, host Julia Sagebien interviews Rev. Seth Zuihō Segall about his understanding of engaged Buddhism.  The interview will last 30 minutes and will be followed by an opportunity for questions and answers by viewers. In later months\, the series will include live interviews with the Ven. Bhikkhu Bodhi from Chuang Yen Monastery\, Tara Brach of the Insight Meditaiton Community of Washington\, D.C.\, Mushim Patricia Ikeda from the East Bay Meditation Center\, Sinclair Shinryu Thomson Roshi\, abbot of the Village Zendo\, Daiken Nelson Roshi\, from Pamsula Zen Center\, the Rev. angel Kyodo williams from the Center for Transformative Change\, Ellen Korman Mains\, author and long-term student of Chögyam Trungpa Rinpoche\, and others.  These live broadcasts will be recorded and later available as YouTube videos and Substack podcasts. \nRev. Segall is a Zen priest and psychologist who has written many books\, chapters\, and articles on the intersection of Buddhism and psychology.  He is a former clinical faculty member of the Yale School of Medicine and a current contributing editor to Tricycle: The Buddhist Review.  He is a cofounder and Coordinating Committee member of the Buddhist Coalition for Democracy. Rev. Segall views Buddhism from a naturalistic\, pragmatic\, cosmopolitan\, and eudaimonic perspective. His experience as a citizen-activist began with the civil rights and anti-Vietnam War movments. \n  \nTo Join\, click: https://us06web.zoom.us/j/8246019794?pwd=wBClQIIZIA1hLkaiL8dzZyniJoQj0V.1&omn=84098118163 \n 
URL:https://www.buddhistcoalitionfordemocracy.org/event/bcd-new-directions-in-engaged-buddhism-live-telecast-julia-sagebien-interviews-rev-seth-zuiho-segall/
LOCATION:Zoom Event
CATEGORIES:Engaged Buddhism,Virtual Event
END:VEVENT
END:VCALENDAR