BEGIN:VCALENDAR
VERSION:2.0
PRODID:-//Buddhist Coalition for Democracy - ECPv6.15.20//NONSGML v1.0//EN
CALSCALE:GREGORIAN
METHOD:PUBLISH
X-ORIGINAL-URL:https://www.buddhistcoalitionfordemocracy.org
X-WR-CALDESC:Events for Buddhist Coalition for Democracy
REFRESH-INTERVAL;VALUE=DURATION:PT1H
X-Robots-Tag:noindex
X-PUBLISHED-TTL:PT1H
BEGIN:VTIMEZONE
TZID:America/New_York
BEGIN:DAYLIGHT
TZOFFSETFROM:-0500
TZOFFSETTO:-0400
TZNAME:EDT
DTSTART:20240310T070000
END:DAYLIGHT
BEGIN:STANDARD
TZOFFSETFROM:-0400
TZOFFSETTO:-0500
TZNAME:EST
DTSTART:20241103T060000
END:STANDARD
BEGIN:DAYLIGHT
TZOFFSETFROM:-0500
TZOFFSETTO:-0400
TZNAME:EDT
DTSTART:20250309T070000
END:DAYLIGHT
BEGIN:STANDARD
TZOFFSETFROM:-0400
TZOFFSETTO:-0500
TZNAME:EST
DTSTART:20251102T060000
END:STANDARD
BEGIN:DAYLIGHT
TZOFFSETFROM:-0500
TZOFFSETTO:-0400
TZNAME:EDT
DTSTART:20260308T070000
END:DAYLIGHT
BEGIN:STANDARD
TZOFFSETFROM:-0400
TZOFFSETTO:-0500
TZNAME:EST
DTSTART:20261101T060000
END:STANDARD
END:VTIMEZONE
BEGIN:VEVENT
DTSTART;TZID=America/New_York:20251204T190000
DTEND;TZID=America/New_York:20251204T200000
DTSTAMP:20260419T174315
CREATED:20251119T222442Z
LAST-MODIFIED:20251130T160903Z
UID:10001142-1764874800-1764878400@www.buddhistcoalitionfordemocracy.org
SUMMARY:BCD Live Interview: New Horizons in Engaged Buddhism host Julia Sagebien interviews Francisco "Paco" Lugoviña Roshi
DESCRIPTION:In this third of a series of monthly live interviews with engaged Buddhist thought leaders\, host Julia Sagebien interviews Francisco “Paco” Lugoviña Roshi  about his vision for engaged Buddhism. The interview will last 30 minutes and be followed by an opportunity for question and answers by viewers. Roshi Paco is a Dharma heir to Bernie Glassman Roshi and a board member of the Zen Peacemakers organization. He co-founded the Hudson River Peacemaker Center: House of One People\, in Yonkers\, New York. He has worked with gang members and youth and participated in Bearing Witness Retreats and pilgrimages to Tibet\, Auschwitz-Birkenau\, India\, Sri Lanka\, Rwanda\, as well as on the streets of New York and other US cities. \nYou can join via Zoom here
URL:https://www.buddhistcoalitionfordemocracy.org/event/bcd-live-interview-new-horizons-in-engaged-buddhism-host-julia-sagebien-interviews-francisco-paco-luvovina-roshi/
LOCATION:Zoom Event
CATEGORIES:BCD Meeting,Engaged Buddhism,Virtual Event
ATTACH;FMTTYPE=image/jpeg:https://www.buddhistcoalitionfordemocracy.org/wp-content/uploads/2025/11/Paco.jpeg
END:VEVENT
END:VCALENDAR